BEGIN:VCALENDAR
VERSION:2.0
PRODID:-//LeadingAge DC - ECPv6.15.20//NONSGML v1.0//EN
CALSCALE:GREGORIAN
METHOD:PUBLISH
X-WR-CALNAME:LeadingAge DC
X-ORIGINAL-URL:https://www.leadingagedc.org
X-WR-CALDESC:Events for LeadingAge DC
REFRESH-INTERVAL;VALUE=DURATION:PT1H
X-Robots-Tag:noindex
X-PUBLISHED-TTL:PT1H
BEGIN:VTIMEZONE
TZID:America/Halifax
BEGIN:DAYLIGHT
TZOFFSETFROM:-0400
TZOFFSETTO:-0300
TZNAME:ADT
DTSTART:20240310T060000
END:DAYLIGHT
BEGIN:STANDARD
TZOFFSETFROM:-0300
TZOFFSETTO:-0400
TZNAME:AST
DTSTART:20241103T050000
END:STANDARD
BEGIN:DAYLIGHT
TZOFFSETFROM:-0400
TZOFFSETTO:-0300
TZNAME:ADT
DTSTART:20250309T060000
END:DAYLIGHT
BEGIN:STANDARD
TZOFFSETFROM:-0300
TZOFFSETTO:-0400
TZNAME:AST
DTSTART:20251102T050000
END:STANDARD
BEGIN:DAYLIGHT
TZOFFSETFROM:-0400
TZOFFSETTO:-0300
TZNAME:ADT
DTSTART:20260308T060000
END:DAYLIGHT
BEGIN:STANDARD
TZOFFSETFROM:-0300
TZOFFSETTO:-0400
TZNAME:AST
DTSTART:20261101T050000
END:STANDARD
END:VTIMEZONE
BEGIN:VEVENT
DTSTART;TZID=America/Halifax:20250429T183000
DTEND;TZID=America/Halifax:20250429T200000
DTSTAMP:20260426T013647
CREATED:20250416T025934Z
LAST-MODIFIED:20250416T025934Z
UID:6440-1745951400-1745956800@www.leadingagedc.org
SUMMARY:Join Us for “Saving Claire” – Free Virtual Screening & Panel
DESCRIPTION:You’re invited to a free virtual screening of Saving Claire on Tuesday\, April 29\, 2025\, from 6:30 to 8:00 PM via Zoom. This powerful film explores the realities of aging\, resistance to change\, and the risks that lead to falls—following Claire’s journey and the events after her fall. An expert panel discussion will follow\, offering insight and practical tips to reduce risk and improve quality of life. Register here to attend. For questions\, contact jcepillo@homecarepartners.org or call 202-559-9856.
URL:https://www.leadingagedc.org/event/join-us-for-saving-claire-free-virtual-screening-panel/
END:VEVENT
END:VCALENDAR