BEGIN:VCALENDAR
VERSION:2.0
PRODID:-//LeadingAge DC - ECPv6.15.20//NONSGML v1.0//EN
CALSCALE:GREGORIAN
METHOD:PUBLISH
X-ORIGINAL-URL:https://www.leadingagedc.org
X-WR-CALDESC:Events for LeadingAge DC
REFRESH-INTERVAL;VALUE=DURATION:PT1H
X-Robots-Tag:noindex
X-PUBLISHED-TTL:PT1H
BEGIN:VTIMEZONE
TZID:America/Halifax
BEGIN:DAYLIGHT
TZOFFSETFROM:-0400
TZOFFSETTO:-0300
TZNAME:ADT
DTSTART:20240310T060000
END:DAYLIGHT
BEGIN:STANDARD
TZOFFSETFROM:-0300
TZOFFSETTO:-0400
TZNAME:AST
DTSTART:20241103T050000
END:STANDARD
BEGIN:DAYLIGHT
TZOFFSETFROM:-0400
TZOFFSETTO:-0300
TZNAME:ADT
DTSTART:20250309T060000
END:DAYLIGHT
BEGIN:STANDARD
TZOFFSETFROM:-0300
TZOFFSETTO:-0400
TZNAME:AST
DTSTART:20251102T050000
END:STANDARD
BEGIN:DAYLIGHT
TZOFFSETFROM:-0400
TZOFFSETTO:-0300
TZNAME:ADT
DTSTART:20260308T060000
END:DAYLIGHT
BEGIN:STANDARD
TZOFFSETFROM:-0300
TZOFFSETTO:-0400
TZNAME:AST
DTSTART:20261101T050000
END:STANDARD
END:VTIMEZONE
BEGIN:VEVENT
DTSTART;TZID=America/Halifax:20250507T120000
DTEND;TZID=America/Halifax:20250507T120000
DTSTAMP:20260426T013723
CREATED:20250416T024603Z
LAST-MODIFIED:20250430T163200Z
UID:6436-1746619200-1746619200@www.leadingagedc.org
SUMMARY:Annual Vector-Borne Disease Webinar
DESCRIPTION:DC Health invites you to attend the annual Vector-Borne Disease Webinar on Wednesday\, May 7 at 12:00 PM EST. Designed for healthcare providers\, the webinar will cover national and local trends in tick- and mosquito-borne diseases\, highlight atypical case presentations\, and provide reporting guidance. A Q&A session will follow. Please register via WebEx (password: 1234)\, and feel free to share with colleagues. The session will be recorded and sent to all registrants. For questions\, contact Leslie.ayuk-takor@dc.gov or vectorborne.epi@dc.gov. \n 
URL:https://www.leadingagedc.org/event/annual-vector-borne-disease-webinar/
END:VEVENT
END:VCALENDAR