BEGIN:VCALENDAR
VERSION:2.0
PRODID:-//LeadingAge DC - ECPv6.15.20//NONSGML v1.0//EN
CALSCALE:GREGORIAN
METHOD:PUBLISH
X-ORIGINAL-URL:https://www.leadingagedc.org
X-WR-CALDESC:Events for LeadingAge DC
REFRESH-INTERVAL;VALUE=DURATION:PT1H
X-Robots-Tag:noindex
X-PUBLISHED-TTL:PT1H
BEGIN:VTIMEZONE
TZID:America/Halifax
BEGIN:DAYLIGHT
TZOFFSETFROM:-0400
TZOFFSETTO:-0300
TZNAME:ADT
DTSTART:20240310T060000
END:DAYLIGHT
BEGIN:STANDARD
TZOFFSETFROM:-0300
TZOFFSETTO:-0400
TZNAME:AST
DTSTART:20241103T050000
END:STANDARD
BEGIN:DAYLIGHT
TZOFFSETFROM:-0400
TZOFFSETTO:-0300
TZNAME:ADT
DTSTART:20250309T060000
END:DAYLIGHT
BEGIN:STANDARD
TZOFFSETFROM:-0300
TZOFFSETTO:-0400
TZNAME:AST
DTSTART:20251102T050000
END:STANDARD
BEGIN:DAYLIGHT
TZOFFSETFROM:-0400
TZOFFSETTO:-0300
TZNAME:ADT
DTSTART:20260308T060000
END:DAYLIGHT
BEGIN:STANDARD
TZOFFSETFROM:-0300
TZOFFSETTO:-0400
TZNAME:AST
DTSTART:20261101T050000
END:STANDARD
END:VTIMEZONE
BEGIN:VEVENT
DTSTART;TZID=America/Halifax:20250513T110000
DTEND;TZID=America/Halifax:20250617T130000
DTSTAMP:20260426T013722
CREATED:20250430T165831Z
LAST-MODIFIED:20250430T165858Z
UID:6448-1747134000-1750165200@www.leadingagedc.org
SUMMARY:Free 6-Week Cooking Class – May Sessions!
DESCRIPTION:Join us for Nourish from Within\, a free 6-week culinary course led by renowned nutritionist Sharon Hawks\, MS\, RDN\, LDN\, CDCES. Learn how to prepare healthy\, delicious meals that support your overall well-being. \nLocation: The Mess Hall – 703 Edgewood St NE\, Washington\, DC\nDates: Saturdays\, May 3rd\, 10th\, and 17th\nTime: 11:00 AM – 1:00 PM\nOpen to adults 18 and older | Limited to 25 participants \n🔗 Register here
URL:https://www.leadingagedc.org/event/free-6-week-cooking-class-may-sessions/
END:VEVENT
BEGIN:VEVENT
DTSTART;TZID=America/Halifax:20250514T120000
DTEND;TZID=America/Halifax:20250514T120000
DTSTAMP:20260426T013723
CREATED:20250430T162742Z
LAST-MODIFIED:20250430T162911Z
UID:6442-1747224000-1747224000@www.leadingagedc.org
SUMMARY:Guiding an Improved Dementia Experience (GUIDE) Model
DESCRIPTION:Join us on Wednesday\, May 14 at 12 PM for a free virtual event exploring the new CMS GUIDE Model—designed to improve life for people living with dementia and support their caregivers. Hear from Dr. Jennifer Pauldurai of Inova Health and Tyler Lloyd\, GUIDE Dementia Program Manager\, as they share how this model connects families to resources\, reduces stress\, and improves care outcomes. Don’t miss it—Register here.
URL:https://www.leadingagedc.org/event/guiding-an-improved-dementia-experience-guide-model/
END:VEVENT
END:VCALENDAR