BEGIN:VCALENDAR
VERSION:2.0
PRODID:-//LeadingAge DC - ECPv6.15.20//NONSGML v1.0//EN
CALSCALE:GREGORIAN
METHOD:PUBLISH
X-ORIGINAL-URL:https://www.leadingagedc.org
X-WR-CALDESC:Events for LeadingAge DC
REFRESH-INTERVAL;VALUE=DURATION:PT1H
X-Robots-Tag:noindex
X-PUBLISHED-TTL:PT1H
BEGIN:VTIMEZONE
TZID:America/Halifax
BEGIN:DAYLIGHT
TZOFFSETFROM:-0400
TZOFFSETTO:-0300
TZNAME:ADT
DTSTART:20240310T060000
END:DAYLIGHT
BEGIN:STANDARD
TZOFFSETFROM:-0300
TZOFFSETTO:-0400
TZNAME:AST
DTSTART:20241103T050000
END:STANDARD
BEGIN:DAYLIGHT
TZOFFSETFROM:-0400
TZOFFSETTO:-0300
TZNAME:ADT
DTSTART:20250309T060000
END:DAYLIGHT
BEGIN:STANDARD
TZOFFSETFROM:-0300
TZOFFSETTO:-0400
TZNAME:AST
DTSTART:20251102T050000
END:STANDARD
BEGIN:DAYLIGHT
TZOFFSETFROM:-0400
TZOFFSETTO:-0300
TZNAME:ADT
DTSTART:20260308T060000
END:DAYLIGHT
BEGIN:STANDARD
TZOFFSETFROM:-0300
TZOFFSETTO:-0400
TZNAME:AST
DTSTART:20261101T050000
END:STANDARD
END:VTIMEZONE
BEGIN:VEVENT
DTSTART;TZID=America/Halifax:20250618T170000
DTEND;TZID=America/Halifax:20250618T193000
DTSTAMP:20260426T000548
CREATED:20250514T192321Z
LAST-MODIFIED:20250602T191144Z
UID:6458-1750266000-1750275000@www.leadingagedc.org
SUMMARY:LeadingAge DC Summer Social
DESCRIPTION:We’re excited to invite you to the LeadingAge DC Summer Social – a relaxed\, fun\, and meaningful opportunity to connect with members and professionals passionate about aging services. \nJoin us for great conversations\, community updates\, and light refreshments in the heart of DC. \n📍 Lost & Found DC\n📅 June 18\, 2025 | 🕔 5:00 – 7:30 PM\n📍 1240 9th St NW\, Washington\, DC \nWhether you’re looking to network\, share insights\, or just unwind after a busy day\, this is the perfect setting to stay connected\, informed\, and engaged. \n👉 RSVP He
URL:https://www.leadingagedc.org/event/ladc-happy-hour-social/
END:VEVENT
END:VCALENDAR