BEGIN:VCALENDAR
VERSION:2.0
PRODID:-//LeadingAge DC - ECPv6.15.20//NONSGML v1.0//EN
CALSCALE:GREGORIAN
METHOD:PUBLISH
X-ORIGINAL-URL:https://www.leadingagedc.org
X-WR-CALDESC:Events for LeadingAge DC
REFRESH-INTERVAL;VALUE=DURATION:PT1H
X-Robots-Tag:noindex
X-PUBLISHED-TTL:PT1H
BEGIN:VTIMEZONE
TZID:America/Halifax
BEGIN:DAYLIGHT
TZOFFSETFROM:-0400
TZOFFSETTO:-0300
TZNAME:ADT
DTSTART:20240310T060000
END:DAYLIGHT
BEGIN:STANDARD
TZOFFSETFROM:-0300
TZOFFSETTO:-0400
TZNAME:AST
DTSTART:20241103T050000
END:STANDARD
BEGIN:DAYLIGHT
TZOFFSETFROM:-0400
TZOFFSETTO:-0300
TZNAME:ADT
DTSTART:20250309T060000
END:DAYLIGHT
BEGIN:STANDARD
TZOFFSETFROM:-0300
TZOFFSETTO:-0400
TZNAME:AST
DTSTART:20251102T050000
END:STANDARD
BEGIN:DAYLIGHT
TZOFFSETFROM:-0400
TZOFFSETTO:-0300
TZNAME:ADT
DTSTART:20260308T060000
END:DAYLIGHT
BEGIN:STANDARD
TZOFFSETFROM:-0300
TZOFFSETTO:-0400
TZNAME:AST
DTSTART:20261101T050000
END:STANDARD
END:VTIMEZONE
BEGIN:VEVENT
DTSTART;TZID=America/Halifax:20250711T130000
DTEND;TZID=America/Halifax:20250711T130000
DTSTAMP:20260425T223527
CREATED:20250709T204256Z
LAST-MODIFIED:20250709T204546Z
UID:6540-1752238800-1752238800@www.leadingagedc.org
SUMMARY:Know Your Options with DACL – Learn About Local Services!
DESCRIPTION:Join us on Friday\, July 11 at 1:00 PM on Zoom for an informative session with Kayla Walker\, Community Outreach Specialist from the Department of Aging and Community Living (DACL). This session will highlight the wide range of services available to older adults (60+) and adults with disabilities (18+) living in DC’s Wards 2 and 3. \nWhether you’re looking for support services\, programs\, or just want to learn more—this session is for you! \nRegister here to attend virtually.
URL:https://www.leadingagedc.org/event/know-your-options-with-dacl-learn-about-local-services/
END:VEVENT
END:VCALENDAR