BEGIN:VCALENDAR
VERSION:2.0
PRODID:-//LeadingAge DC - ECPv6.15.20//NONSGML v1.0//EN
CALSCALE:GREGORIAN
METHOD:PUBLISH
X-WR-CALNAME:LeadingAge DC
X-ORIGINAL-URL:https://www.leadingagedc.org
X-WR-CALDESC:Events for LeadingAge DC
REFRESH-INTERVAL;VALUE=DURATION:PT1H
X-Robots-Tag:noindex
X-PUBLISHED-TTL:PT1H
BEGIN:VTIMEZONE
TZID:America/Halifax
BEGIN:DAYLIGHT
TZOFFSETFROM:-0400
TZOFFSETTO:-0300
TZNAME:ADT
DTSTART:20240310T060000
END:DAYLIGHT
BEGIN:STANDARD
TZOFFSETFROM:-0300
TZOFFSETTO:-0400
TZNAME:AST
DTSTART:20241103T050000
END:STANDARD
BEGIN:DAYLIGHT
TZOFFSETFROM:-0400
TZOFFSETTO:-0300
TZNAME:ADT
DTSTART:20250309T060000
END:DAYLIGHT
BEGIN:STANDARD
TZOFFSETFROM:-0300
TZOFFSETTO:-0400
TZNAME:AST
DTSTART:20251102T050000
END:STANDARD
BEGIN:DAYLIGHT
TZOFFSETFROM:-0400
TZOFFSETTO:-0300
TZNAME:ADT
DTSTART:20260308T060000
END:DAYLIGHT
BEGIN:STANDARD
TZOFFSETFROM:-0300
TZOFFSETTO:-0400
TZNAME:AST
DTSTART:20261101T050000
END:STANDARD
END:VTIMEZONE
BEGIN:VEVENT
DTSTART;TZID=America/Halifax:20250922T090000
DTEND;TZID=America/Halifax:20250922T130000
DTSTAMP:20260425T191448
CREATED:20250821T181541Z
LAST-MODIFIED:20250821T181718Z
UID:6608-1758531600-1758546000@www.leadingagedc.org
SUMMARY:Falls Prevention Awareness Week – Trinity Washington University
DESCRIPTION:Falls Prevention Awareness Week Flyer Join us on September 22\, 2025 from 9:00am to 1:00pm at Trinity Washington University (125 Michigan Ave NE – Trinity Center for Women & Girls in Sports) for Falls Prevention Awareness Week! \nEnjoy FREE screenings for balance\, strength\, vision\, medications\, and blood pressure\, plus tips on home safety\, fall recovery\, and preventative exercises. Participants will also receive giveaway bags\, raffle entries\, snacks\, and a “File of Life” from AARP DC. \n👉 Register with the flyer QR code or click here.
URL:https://www.leadingagedc.org/event/falls-prevention-awareness-week-trinity-washington-university/
END:VEVENT
END:VCALENDAR