BEGIN:VCALENDAR
VERSION:2.0
PRODID:-//LeadingAge DC - ECPv6.15.20//NONSGML v1.0//EN
CALSCALE:GREGORIAN
METHOD:PUBLISH
X-ORIGINAL-URL:https://www.leadingagedc.org
X-WR-CALDESC:Events for LeadingAge DC
REFRESH-INTERVAL;VALUE=DURATION:PT1H
X-Robots-Tag:noindex
X-PUBLISHED-TTL:PT1H
BEGIN:VTIMEZONE
TZID:America/Halifax
BEGIN:DAYLIGHT
TZOFFSETFROM:-0400
TZOFFSETTO:-0300
TZNAME:ADT
DTSTART:20240310T060000
END:DAYLIGHT
BEGIN:STANDARD
TZOFFSETFROM:-0300
TZOFFSETTO:-0400
TZNAME:AST
DTSTART:20241103T050000
END:STANDARD
BEGIN:DAYLIGHT
TZOFFSETFROM:-0400
TZOFFSETTO:-0300
TZNAME:ADT
DTSTART:20250309T060000
END:DAYLIGHT
BEGIN:STANDARD
TZOFFSETFROM:-0300
TZOFFSETTO:-0400
TZNAME:AST
DTSTART:20251102T050000
END:STANDARD
BEGIN:DAYLIGHT
TZOFFSETFROM:-0400
TZOFFSETTO:-0300
TZNAME:ADT
DTSTART:20260308T060000
END:DAYLIGHT
BEGIN:STANDARD
TZOFFSETFROM:-0300
TZOFFSETTO:-0400
TZNAME:AST
DTSTART:20261101T050000
END:STANDARD
END:VTIMEZONE
BEGIN:VEVENT
DTSTART;TZID=America/Halifax:20250923T100000
DTEND;TZID=America/Halifax:20250923T150000
DTSTAMP:20260425T191505
CREATED:20250821T184302Z
LAST-MODIFIED:20250821T184308Z
UID:6618-1758621600-1758639600@www.leadingagedc.org
SUMMARY:Level Up: Strategies to Own Your Career Growth
DESCRIPTION:Join us on Tuesday\, September 23\, 2025\, from 10:00 AM – 3:00 PM at Goodwin House Alexandria (4800 Fillmore Avenue\, Alexandria\, VA 22311) for an interactive workshop designed to help you take charge of your career journey. \nWhether you’re aiming for your next promotion\, refining your voice in the workplace\, or building your online presence\, this session offers practical strategies\, communication tools\, and networking opportunities to help you succeed. Early- and mid-career professionals across aging services are encouraged to attend. \nApplying for 4 NAB CEs | Cost: $15 \n👉 Register here: Level Up Workshop
URL:https://www.leadingagedc.org/event/level-up-strategies-to-own-your-career-growth/
END:VEVENT
BEGIN:VEVENT
DTSTART;TZID=America/Halifax:20250923T110000
DTEND;TZID=America/Halifax:20250923T150000
DTSTAMP:20260425T191505
CREATED:20250821T182055Z
LAST-MODIFIED:20250821T182100Z
UID:6612-1758625200-1758639600@www.leadingagedc.org
SUMMARY:Falls Prevention Awareness Week – George Washington University
DESCRIPTION:Join us on September 23\, 2025 from 11:00am to 3:00pm at George Washington University (800 21st St NW – GWU Student Center Ballroom) for Falls Prevention Awareness Week! \nEnjoy FREE screenings for balance\, strength\, vision\, medications\, and blood pressure\, plus tips on home safety\, fall recovery\, and preventative exercises. Participants will also receive giveaway bags\, raffle entries\, snacks\, and a “File of Life” from AARP DC. \n👉 Register with the flyer QR code or click here.
URL:https://www.leadingagedc.org/event/falls-prevention-awareness-week-george-washington-university/
END:VEVENT
END:VCALENDAR