BEGIN:VCALENDAR
VERSION:2.0
PRODID:-//LeadingAge DC - ECPv6.15.20//NONSGML v1.0//EN
CALSCALE:GREGORIAN
METHOD:PUBLISH
X-ORIGINAL-URL:https://www.leadingagedc.org
X-WR-CALDESC:Events for LeadingAge DC
REFRESH-INTERVAL;VALUE=DURATION:PT1H
X-Robots-Tag:noindex
X-PUBLISHED-TTL:PT1H
BEGIN:VTIMEZONE
TZID:America/Halifax
BEGIN:DAYLIGHT
TZOFFSETFROM:-0400
TZOFFSETTO:-0300
TZNAME:ADT
DTSTART:20240310T060000
END:DAYLIGHT
BEGIN:STANDARD
TZOFFSETFROM:-0300
TZOFFSETTO:-0400
TZNAME:AST
DTSTART:20241103T050000
END:STANDARD
BEGIN:DAYLIGHT
TZOFFSETFROM:-0400
TZOFFSETTO:-0300
TZNAME:ADT
DTSTART:20250309T060000
END:DAYLIGHT
BEGIN:STANDARD
TZOFFSETFROM:-0300
TZOFFSETTO:-0400
TZNAME:AST
DTSTART:20251102T050000
END:STANDARD
BEGIN:DAYLIGHT
TZOFFSETFROM:-0400
TZOFFSETTO:-0300
TZNAME:ADT
DTSTART:20260308T060000
END:DAYLIGHT
BEGIN:STANDARD
TZOFFSETFROM:-0300
TZOFFSETTO:-0400
TZNAME:AST
DTSTART:20261101T050000
END:STANDARD
END:VTIMEZONE
BEGIN:VEVENT
DTSTART;TZID=America/Halifax:20251204T120000
DTEND;TZID=America/Halifax:20251204T120000
DTSTAMP:20260425T150028
CREATED:20251209T155745Z
LAST-MODIFIED:20251209T155813Z
UID:6731-1764849600-1764849600@www.leadingagedc.org
SUMMARY:LUNCH & LEARN: DC Medicaid Updates\, Long-Term Care Priorities\, and Your Organization – December 4
DESCRIPTION:Join us for a special Lunch & Learn session featuring the DC Department of Health Care Finance (DHCF). This virtual session will provide timely updates on the District’s Medicaid program\, new initiatives in long-term care\, and important developments that impact aging service providers across Washington\, D.C. \nOur guest presenter\, Melisa Byrd\, Senior Deputy Director and Medicaid Director at DHCF\, will share key insights on upcoming changes\, priorities for the new Long Term Care Subcommittee of the MCAC\, and how these efforts support and strengthen D.C.’s aging services network. \nThis session will cover: \nUpdates to the DC Medicaid program \nPriorities and activities of the new Long Term Care Subcommittee of the MCAC \nPolicy changes affecting providers and aging services organizations \nOpportunities to support your staff\, residents\, and program operations \nThis session is ideal for administrators\, HR professionals\, leadership teams\, advocates\, service coordinators\, and affordable housing providers. \n🗓 Date: Thursday\, December 4\, 2025\n⏰ Time: 12:00 PM (EST)\n📍 Location: Zoom Webinar \nRegister Now \nAfter registering\, you’ll receive a confirmation email with your Zoom link. Don’t miss this opportunity to stay up to date on DC Medicaid developments that shape and support the aging services community.
URL:https://www.leadingagedc.org/event/lunch-learn-dc-medicaid-updates-long-term-care-priorities-and-your-organization-december-4/
END:VEVENT
END:VCALENDAR