BEGIN:VCALENDAR
VERSION:2.0
PRODID:-//LeadingAge DC - ECPv6.15.20//NONSGML v1.0//EN
CALSCALE:GREGORIAN
METHOD:PUBLISH
X-ORIGINAL-URL:https://www.leadingagedc.org
X-WR-CALDESC:Events for LeadingAge DC
REFRESH-INTERVAL;VALUE=DURATION:PT1H
X-Robots-Tag:noindex
X-PUBLISHED-TTL:PT1H
BEGIN:VTIMEZONE
TZID:America/Halifax
BEGIN:DAYLIGHT
TZOFFSETFROM:-0400
TZOFFSETTO:-0300
TZNAME:ADT
DTSTART:20250309T060000
END:DAYLIGHT
BEGIN:STANDARD
TZOFFSETFROM:-0300
TZOFFSETTO:-0400
TZNAME:AST
DTSTART:20251102T050000
END:STANDARD
BEGIN:DAYLIGHT
TZOFFSETFROM:-0400
TZOFFSETTO:-0300
TZNAME:ADT
DTSTART:20260308T060000
END:DAYLIGHT
BEGIN:STANDARD
TZOFFSETFROM:-0300
TZOFFSETTO:-0400
TZNAME:AST
DTSTART:20261101T050000
END:STANDARD
BEGIN:DAYLIGHT
TZOFFSETFROM:-0400
TZOFFSETTO:-0300
TZNAME:ADT
DTSTART:20270314T060000
END:DAYLIGHT
BEGIN:STANDARD
TZOFFSETFROM:-0300
TZOFFSETTO:-0400
TZNAME:AST
DTSTART:20271107T050000
END:STANDARD
END:VTIMEZONE
BEGIN:VEVENT
DTSTART;TZID=America/Halifax:20260421T170000
DTEND;TZID=America/Halifax:20260421T170000
DTSTAMP:20260425T092024
CREATED:20260401T204745Z
LAST-MODIFIED:20260402T003715Z
UID:7014-1776790800-1776790800@www.leadingagedc.org
SUMMARY:A National Conversation on Chronic Illness & End-of-Life Care
DESCRIPTION:Join a solutions-focused discussion on chronic and end-of-life care\, bringing together national leaders\, policymakers\, and healthcare professionals to explore what’s working and what’s next. The evening includes a distinguished panel moderated by Andrew Molosky and insights from leading experts\, including a Nobel Laureate. \nTaking place on April 21 at Capital One Hall in Tysons\, VA\, the event begins with registration and reception at 5:00 PM\, followed by the panel discussion at 6:00 PM and networking to follow. \n Register Today!
URL:https://www.leadingagedc.org/event/a-national-conversation-on-chronic-illness-end-of-life-care/
END:VEVENT
END:VCALENDAR