BEGIN:VCALENDAR
VERSION:2.0
PRODID:-//LeadingAge DC - ECPv6.15.20//NONSGML v1.0//EN
CALSCALE:GREGORIAN
METHOD:PUBLISH
X-ORIGINAL-URL:https://www.leadingagedc.org
X-WR-CALDESC:Events for LeadingAge DC
REFRESH-INTERVAL;VALUE=DURATION:PT1H
X-Robots-Tag:noindex
X-PUBLISHED-TTL:PT1H
BEGIN:VTIMEZONE
TZID:America/Halifax
BEGIN:DAYLIGHT
TZOFFSETFROM:-0400
TZOFFSETTO:-0300
TZNAME:ADT
DTSTART:20250309T060000
END:DAYLIGHT
BEGIN:STANDARD
TZOFFSETFROM:-0300
TZOFFSETTO:-0400
TZNAME:AST
DTSTART:20251102T050000
END:STANDARD
BEGIN:DAYLIGHT
TZOFFSETFROM:-0400
TZOFFSETTO:-0300
TZNAME:ADT
DTSTART:20260308T060000
END:DAYLIGHT
BEGIN:STANDARD
TZOFFSETFROM:-0300
TZOFFSETTO:-0400
TZNAME:AST
DTSTART:20261101T050000
END:STANDARD
BEGIN:DAYLIGHT
TZOFFSETFROM:-0400
TZOFFSETTO:-0300
TZNAME:ADT
DTSTART:20270314T060000
END:DAYLIGHT
BEGIN:STANDARD
TZOFFSETFROM:-0300
TZOFFSETTO:-0400
TZNAME:AST
DTSTART:20271107T050000
END:STANDARD
END:VTIMEZONE
BEGIN:VEVENT
DTSTART;TZID=America/Halifax:20260505T085500
DTEND;TZID=America/Halifax:20260505T161500
DTSTAMP:20260425T094500
CREATED:20260325T143240Z
LAST-MODIFIED:20260331T040602Z
UID:7007-1777971300-1777997700@www.leadingagedc.org
SUMMARY:Technology Demo Day: Fall Prevention (Virtual)
DESCRIPTION:Tuesday\, May 5 | 8:55 a.m. – 4:15 p.m. \nJoin this virtual Technology Demo Day focused on fall prevention in long-term care settings. This event will showcase data-driven solutions designed to reduce falls and improve resident safety\, including remote monitoring\, wearables\, motion sensors\, AI-powered analytics\, and predictive technologies. \nParticipants will gain insight into real-world applications\, implementation best practices\, and provider case studies that align with CMS quality priorities and regulatory expectations. The day features live demos from leading technology providers\, offering practical strategies to strengthen staff response\, enhance care outcomes\, and support ongoing performance improvement. \nThis complimentary event is ideal for providers across all long-term care settings looking to explore innovative tools to advance fall prevention efforts. \nFor full agenda and details\, 2026_TechDemoDay_FallPrevention_1.
URL:https://www.leadingagedc.org/event/technology-demo-day-fall-prevention-virtual/
END:VEVENT
END:VCALENDAR