BEGIN:VCALENDAR
VERSION:2.0
PRODID:-//LeadingAge DC - ECPv6.15.20//NONSGML v1.0//EN
CALSCALE:GREGORIAN
METHOD:PUBLISH
X-WR-CALNAME:LeadingAge DC
X-ORIGINAL-URL:https://www.leadingagedc.org
X-WR-CALDESC:Events for LeadingAge DC
REFRESH-INTERVAL;VALUE=DURATION:PT1H
X-Robots-Tag:noindex
X-PUBLISHED-TTL:PT1H
BEGIN:VTIMEZONE
TZID:America/Halifax
BEGIN:DAYLIGHT
TZOFFSETFROM:-0400
TZOFFSETTO:-0300
TZNAME:ADT
DTSTART:20240310T060000
END:DAYLIGHT
BEGIN:STANDARD
TZOFFSETFROM:-0300
TZOFFSETTO:-0400
TZNAME:AST
DTSTART:20241103T050000
END:STANDARD
BEGIN:DAYLIGHT
TZOFFSETFROM:-0400
TZOFFSETTO:-0300
TZNAME:ADT
DTSTART:20250309T060000
END:DAYLIGHT
BEGIN:STANDARD
TZOFFSETFROM:-0300
TZOFFSETTO:-0400
TZNAME:AST
DTSTART:20251102T050000
END:STANDARD
BEGIN:DAYLIGHT
TZOFFSETFROM:-0400
TZOFFSETTO:-0300
TZNAME:ADT
DTSTART:20260308T060000
END:DAYLIGHT
BEGIN:STANDARD
TZOFFSETFROM:-0300
TZOFFSETTO:-0400
TZNAME:AST
DTSTART:20261101T050000
END:STANDARD
END:VTIMEZONE
BEGIN:VEVENT
DTSTART;TZID=America/Halifax:20250708T120000
DTEND;TZID=America/Halifax:20250708T120000
DTSTAMP:20260425T210142
CREATED:20250624T150212Z
LAST-MODIFIED:20250624T181424Z
UID:6518-1751976000-1751976000@www.leadingagedc.org
SUMMARY:Managing Money: A Caregiver’s Guide
DESCRIPTION:Tuesday\, July 8 | 12:00 P.M. | Webinar \nJoin us for a free\, evidence-based webinar designed to help caregivers navigate the financial challenges of caregiving. Presented in partnership with Edward Jones and led by Michael Brick\, Volunteer Community Educator\, this session will cover: \n\nUnderstanding the costs of caregiving\nThe importance of early financial planning\nHow to start conversations about money\nIdentifying financial and legal needs\nAvoiding fraud and financial abuse\nFinding reliable support and resources\n\n \n🔗 Join via Zoom\nQuestions? Call the 24/7 Helpline at 800.272.3900 or visit ALZ.ORG
URL:https://www.leadingagedc.org/event/managing-money-a-caregivers-guide/
END:VEVENT
BEGIN:VEVENT
DTSTART;TZID=America/Halifax:20250709T120000
DTEND;TZID=America/Halifax:20250709T120000
DTSTAMP:20260425T210142
CREATED:20250624T181139Z
LAST-MODIFIED:20250624T181236Z
UID:6521-1752062400-1752062400@www.leadingagedc.org
SUMMARY:Free Webinar: Intro to Long-Term Care & Medicaid Planning
DESCRIPTION:Planning ahead makes all the difference. Join us for a free webinar on navigating long-term care options and Medicaid planning\, presented by Seabury Resources for Aging® and the Elder & Disability Law Center. \n📅 Wednesday\, July 9 at 12 PM ET \nLed by Michelle McGrath\, LICSW\, Aging Life Care Manager\nGet expert insight on care options\, financial supports\, home resources\, and Medicaid spend-down strategies. \n▶️ Register here \nMake confident\, informed decisions about long-term care—for yourself or your loved ones.
URL:https://www.leadingagedc.org/event/free-webinar-intro-to-long-term-care-medicaid-planning/
END:VEVENT
BEGIN:VEVENT
DTSTART;TZID=America/Halifax:20250711T130000
DTEND;TZID=America/Halifax:20250711T130000
DTSTAMP:20260425T210142
CREATED:20250709T204256Z
LAST-MODIFIED:20250709T204546Z
UID:6540-1752238800-1752238800@www.leadingagedc.org
SUMMARY:Know Your Options with DACL – Learn About Local Services!
DESCRIPTION:Join us on Friday\, July 11 at 1:00 PM on Zoom for an informative session with Kayla Walker\, Community Outreach Specialist from the Department of Aging and Community Living (DACL). This session will highlight the wide range of services available to older adults (60+) and adults with disabilities (18+) living in DC’s Wards 2 and 3. \nWhether you’re looking for support services\, programs\, or just want to learn more—this session is for you! \nRegister here to attend virtually.
URL:https://www.leadingagedc.org/event/know-your-options-with-dacl-learn-about-local-services/
END:VEVENT
BEGIN:VEVENT
DTSTART;TZID=America/Halifax:20250725T100000
DTEND;TZID=America/Halifax:20250725T100000
DTSTAMP:20260425T210142
CREATED:20250709T210340Z
LAST-MODIFIED:20250709T210417Z
UID:6544-1753437600-1753437600@www.leadingagedc.org
SUMMARY:Mental Health First Aid Training
DESCRIPTION:Join us on Thursday\, July 25 at 10:00 AM on Zoom for an engaging session focused on empowering leaders in long-term services and supports (LTSS). Led by Dr. Robyn Stone\, this event will explore how leaders at every level can drive meaningful change in their organizations and improve care for older adults. \nWhether you’re a seasoned executive or emerging professional\, this conversation will offer tools and inspiration to strengthen your leadership impact. \nClick here to register and be part of this vital leadership dialogue!
URL:https://www.leadingagedc.org/event/mental-health-first-aid-training/
END:VEVENT
END:VCALENDAR