BEGIN:VCALENDAR
VERSION:2.0
PRODID:-//LeadingAge DC - ECPv6.15.20//NONSGML v1.0//EN
CALSCALE:GREGORIAN
METHOD:PUBLISH
X-ORIGINAL-URL:https://www.leadingagedc.org
X-WR-CALDESC:Events for LeadingAge DC
REFRESH-INTERVAL;VALUE=DURATION:PT1H
X-Robots-Tag:noindex
X-PUBLISHED-TTL:PT1H
BEGIN:VTIMEZONE
TZID:America/Halifax
BEGIN:DAYLIGHT
TZOFFSETFROM:-0400
TZOFFSETTO:-0300
TZNAME:ADT
DTSTART:20240310T060000
END:DAYLIGHT
BEGIN:STANDARD
TZOFFSETFROM:-0300
TZOFFSETTO:-0400
TZNAME:AST
DTSTART:20241103T050000
END:STANDARD
BEGIN:DAYLIGHT
TZOFFSETFROM:-0400
TZOFFSETTO:-0300
TZNAME:ADT
DTSTART:20250309T060000
END:DAYLIGHT
BEGIN:STANDARD
TZOFFSETFROM:-0300
TZOFFSETTO:-0400
TZNAME:AST
DTSTART:20251102T050000
END:STANDARD
BEGIN:DAYLIGHT
TZOFFSETFROM:-0400
TZOFFSETTO:-0300
TZNAME:ADT
DTSTART:20260308T060000
END:DAYLIGHT
BEGIN:STANDARD
TZOFFSETFROM:-0300
TZOFFSETTO:-0400
TZNAME:AST
DTSTART:20261101T050000
END:STANDARD
END:VTIMEZONE
BEGIN:VEVENT
DTSTART;TZID=America/Halifax:20250801T110000
DTEND;TZID=America/Halifax:20250801T150000
DTSTAMP:20260425T191602
CREATED:20250724T150702Z
LAST-MODIFIED:20250724T150708Z
UID:6576-1754046000-1754060400@www.leadingagedc.org
SUMMARY:Burgers for a Cause – Dine\, Support\, Empower
DESCRIPTION:Join us on Friday\, August 1\, 2025\, from 11:00 AM–3:00 PM for a community fundraiser at Five Guys benefiting Home Care Partners. \nEnjoy a delicious meal while supporting a meaningful cause — 20% of your purchase at any DC Five Guys location will go directly to helping seniors and adults with disabilities remain safely in their homes. \nThis one-day event is a simple way to make a big difference in the lives of vulnerable adults in our community. \nWhere: All DC Five Guys LocationsCost: Just your lunch — 20% goes to Home Care PartnersRSVP: No registration needed — just show up and dine! \nParticipating locations include: Navy Yard\, NoMa\, McPherson\, Dakota Crossing\, Ft. Totten\, Tenleytown\, and Chinatown. \nHave questions? Visit www.homecarepartners.org or call 202-559-9856.
URL:https://www.leadingagedc.org/event/burgers-for-a-cause-dine-support-empower/
END:VEVENT
BEGIN:VEVENT
DTSTART;TZID=America/Halifax:20250809T120000
DTEND;TZID=America/Halifax:20250809T150000
DTSTAMP:20260425T191602
CREATED:20250806T102928Z
LAST-MODIFIED:20250806T102934Z
UID:6586-1754740800-1754751600@www.leadingagedc.org
SUMMARY:Project Lifesaver Awareness Event – Improve Life PLLC & Loudoun County Sheriff’s Office
DESCRIPTION:Join us on Saturday\, August 9\, from 12:00–3:00 PM at 44075 Pipeline Plaza\, Suite 110\, Ashburn\, VA for an informative event about Project Lifesaver — an electronic-based locating system designed to protect individuals with Alzheimer’s\, dementia\, autism\, Down syndrome\, and other conditions that may cause wandering. \nMeet with trained deputies to learn how the program works and how to register your loved one. Enjoy family-friendly activities including prizes\, balloon animals\, and face painting! \nFind more information at www.ImproveLifePLLC.com.
URL:https://www.leadingagedc.org/event/project-lifesaver-awareness-event-improve-life-pllc-loudoun-county-sheriffs-office/
END:VEVENT
BEGIN:VEVENT
DTSTART;TZID=America/Halifax:20250815T110000
DTEND;TZID=America/Halifax:20250815T140000
DTSTAMP:20260425T191602
CREATED:20250806T100853Z
LAST-MODIFIED:20250806T101631Z
UID:6582-1755255600-1755266400@www.leadingagedc.org
SUMMARY:Exploring Technology for 55+ Adults – Hands-On Technology Showcase
DESCRIPTION:Join us on Friday\, August 15\, from 11:00 AM–2:00 PM at the Southwest DC Library (Large Meeting Room) for an interactive technology showcase designed for older adults\, caregivers\, and family members. This event offers a hands-on experience with the latest technology tools that support daily living and digital inclusion. \nThe event is open to older adults who may qualify for low-income assistance programs\, especially residents of Ward 6\, as well as caregivers and family members. \nEnjoy lunch\, enter a raffle\, and explore resources that can help bridge the digital divide! \nRSVP required — Call Claudia at 202-747-3455 or email healthytech@institutephi.org.
URL:https://www.leadingagedc.org/event/6582/
END:VEVENT
BEGIN:VEVENT
DTSTART;TZID=America/Halifax:20250818T093000
DTEND;TZID=America/Halifax:20250818T230000
DTSTAMP:20260425T191602
CREATED:20250724T151659Z
LAST-MODIFIED:20250724T151704Z
UID:6580-1755509400-1755558000@www.leadingagedc.org
SUMMARY:Starting or Improving Your Village Newsletter – Learn\, Design\, Share
DESCRIPTION:Starting or Improving Your Village Newsletter – Learn\, Design\, Share \nJoin us on Monday\, August 18\, 2025\, from 9:30–11:00 AM for a free virtual session hosted by WAVE. Learn how to enhance your Village newsletter using Canva\, explore best practices\, and hear from other Villages. \nWhere: Zoom\nCost: Free\nRSVP: Register here \nFeaturing special guest Katie Ostrowski from the Village Support Network with hands-on Canva tips. Includes live Q&A and sample sharing. \nQuestions? Email washingtonareavillages@gmail.com\nMore info: wavevillages.org
URL:https://www.leadingagedc.org/event/starting-or-improving-your-village-newsletter-learn-design-share/
END:VEVENT
BEGIN:VEVENT
DTSTART;TZID=America/Halifax:20250818T130000
DTEND;TZID=America/Halifax:20250818T143000
DTSTAMP:20260425T191602
CREATED:20250724T150954Z
LAST-MODIFIED:20250724T150959Z
UID:6578-1755522000-1755527400@www.leadingagedc.org
SUMMARY:
DESCRIPTION:Saving Claire Virtual Event – Understand\, Empower\, Prevent \nJoin us on Monday\, August 18\, 2025\, from 1:00–2:30 PM for a free virtual event featuring a special screening of Saving Claire followed by an engaging expert panel discussion. \nThis compelling film explores the complexities of aging\, the resistance to change\, and the common yet overlooked risks that lead to falls. Through Claire’s story\, viewers gain insights into the choices and circumstances that shape aging experiences — and leave with actionable steps to reduce fall risks and support safe\, empowered living. \nWhere: Zoom\nCost: Free\nRSVP: Register via Zoom HERE \nHave questions? Contact 202-559-9856 or email jcepillo@homecarepartners.org
URL:https://www.leadingagedc.org/event/6578/
END:VEVENT
BEGIN:VEVENT
DTSTART;TZID=America/Halifax:20250819T120000
DTEND;TZID=America/Halifax:20250819T120000
DTSTAMP:20260425T191602
CREATED:20250514T195750Z
LAST-MODIFIED:20250710T172834Z
UID:6460-1755604800-1755604800@www.leadingagedc.org
SUMMARY:DCSRG @ LeadingAge DC – Celebrate Collaboration!
DESCRIPTION:Join us on Tuesday\, August 19 at 12:00 PM at LeadingAge DC (2519 Connecticut Ave NW) for a unique event designed to celebrate the power of collaboration across organizations serving older adults. \nThis gathering brings together diverse teams working toward a shared mission—and features a hands-on group activity that will spark creativity\, build teamwork\, and remind us of the strength we have when we come together. \nRSVP to join in on the networking fun!
URL:https://www.leadingagedc.org/event/dcsrg-leadingage-dc-celebrate-collaboration/
END:VEVENT
BEGIN:VEVENT
DTSTART;TZID=America/Halifax:20250822T130000
DTEND;TZID=America/Halifax:20250822T130000
DTSTAMP:20260425T191602
CREATED:20250709T204443Z
LAST-MODIFIED:20250709T204706Z
UID:6542-1755867600-1755867600@www.leadingagedc.org
SUMMARY:Fall Recovery & Prevention Workshop – Your Second Chance to Join!
DESCRIPTION:Join us on Thursday\, August 22 at 1:00 PM on Zoom for a second opportunity to hear from experts at George Washington University Hospital and Safe at Home. This session will cover how to safely recover from a fall\, reduce your risk of injury\, and create a personalized fall recovery plan. \nWhether you missed the first session or want a refresher\, this interactive workshop is a great chance to build confidence and stay safe at home. \nClick here to register and take part in this important conversation!
URL:https://www.leadingagedc.org/event/fall-recovery-prevention-workshop-your-second-chance-to-join/
END:VEVENT
BEGIN:VEVENT
DTSTART;TZID=America/Halifax:20250823T110000
DTEND;TZID=America/Halifax:20250823T160000
DTSTAMP:20260425T191602
CREATED:20250818T164831Z
LAST-MODIFIED:20250818T164837Z
UID:6604-1755946800-1755964800@www.leadingagedc.org
SUMMARY:Mutual Aid Fair
DESCRIPTION:Join us on Saturday\, August 23 from 11:00 AM to 4:00 PM at St. Mark’s Episcopal (301 A Street Southeast\, Washington\, DC) for the kickoff of the Mutual Aid Fair. This free community event will feature shelf-stable foods\, clothing\, and other donated items\, along with workshops and resource booths from local partners. Attendees can also take part in sessions on healthcare literacy\, financial literacy\, domestic violence\, mental health\, and navigating insurance\, plus enjoy on-site services like supervised play\, free blood pressure checks\, and refreshments. All are welcome — no questions asked. \n👉 Please RSVP at mcma-dc.org
URL:https://www.leadingagedc.org/event/mutual-aid-fair/
END:VEVENT
BEGIN:VEVENT
DTSTART;TZID=America/Halifax:20250823T110000
DTEND;TZID=America/Halifax:20250823T170000
DTSTAMP:20260425T191602
CREATED:20250812T160022Z
LAST-MODIFIED:20250812T160046Z
UID:6597-1755946800-1755968400@www.leadingagedc.org
SUMMARY:POWAB Community Day 2025
DESCRIPTION:August 23 – 11:00 a.m.–5:00 p.m. @ Pennsylvania Avenue Baptist Church (3000 Pennsylvania Ave SE\, Washington\, DC) \nJoin the Places of Worship Advisory Board for a day of wellness\, connection\, and celebration! Enjoy live music from Marky Marc of 93.9 WKYS\, “Ask the Expert” wellness talks\, free health screenings\, fitness demos\, and family fun. Register here.
URL:https://www.leadingagedc.org/event/6597/
END:VEVENT
END:VCALENDAR