BEGIN:VCALENDAR
VERSION:2.0
PRODID:-//LeadingAge DC - ECPv6.15.20//NONSGML v1.0//EN
CALSCALE:GREGORIAN
METHOD:PUBLISH
X-ORIGINAL-URL:https://www.leadingagedc.org
X-WR-CALDESC:Events for LeadingAge DC
REFRESH-INTERVAL;VALUE=DURATION:PT1H
X-Robots-Tag:noindex
X-PUBLISHED-TTL:PT1H
BEGIN:VTIMEZONE
TZID:America/Halifax
BEGIN:DAYLIGHT
TZOFFSETFROM:-0400
TZOFFSETTO:-0300
TZNAME:ADT
DTSTART:20240310T060000
END:DAYLIGHT
BEGIN:STANDARD
TZOFFSETFROM:-0300
TZOFFSETTO:-0400
TZNAME:AST
DTSTART:20241103T050000
END:STANDARD
BEGIN:DAYLIGHT
TZOFFSETFROM:-0400
TZOFFSETTO:-0300
TZNAME:ADT
DTSTART:20250309T060000
END:DAYLIGHT
BEGIN:STANDARD
TZOFFSETFROM:-0300
TZOFFSETTO:-0400
TZNAME:AST
DTSTART:20251102T050000
END:STANDARD
BEGIN:DAYLIGHT
TZOFFSETFROM:-0400
TZOFFSETTO:-0300
TZNAME:ADT
DTSTART:20260308T060000
END:DAYLIGHT
BEGIN:STANDARD
TZOFFSETFROM:-0300
TZOFFSETTO:-0400
TZNAME:AST
DTSTART:20261101T050000
END:STANDARD
END:VTIMEZONE
BEGIN:VEVENT
DTSTART;TZID=America/Halifax:20250905T110000
DTEND;TZID=America/Halifax:20250905T140000
DTSTAMP:20260425T175513
CREATED:20250814T154806Z
LAST-MODIFIED:20250814T154813Z
UID:6602-1757070000-1757080800@www.leadingagedc.org
SUMMARY:Healthcare Workforce Vocational Event
DESCRIPTION:Join us on Thursday\, September 5 from 11:00 AM–2:00 PM for the TWH Healthcare Workforce Vocational Event. Connect with TWH scholarship recipients\, nursing and CNA students\, and local employer partners to explore internship opportunities\, career pathways\, and insights into the healthcare industry. \n📌 RSVP here to secure your spot and help shape the future of the healthcare workforce.
URL:https://www.leadingagedc.org/event/healthcare-workforce-vocational-event/
END:VEVENT
BEGIN:VEVENT
DTSTART;TZID=America/Halifax:20250917T090000
DTEND;TZID=America/Halifax:20250917T090000
DTSTAMP:20260425T175513
CREATED:20250709T210726Z
LAST-MODIFIED:20250709T210739Z
UID:6548-1758099600-1758099600@www.leadingagedc.org
SUMMARY:Marketing & Communications Symposium – Connect\, Learn\, Grow
DESCRIPTION:Join us on Wednesday\, September 17 from 9:00 AM–3:00 PM at Westminster Canterbury in Richmond\, VA for the 8th Annual Marketing & Communications Symposium. This one-day event brings together professionals from DC\, Maryland\, and Virginia to explore strategies\, share insights\, and strengthen your impact. \nClick here to register by September 10!
URL:https://www.leadingagedc.org/event/marketing-communications-symposium-connect-learn-grow/
END:VEVENT
BEGIN:VEVENT
DTSTART;TZID=America/Halifax:20250918T093000
DTEND;TZID=America/Halifax:20250918T093000
DTSTAMP:20260425T175513
CREATED:20250709T210638Z
LAST-MODIFIED:20250709T210649Z
UID:6546-1758187800-1758187800@www.leadingagedc.org
SUMMARY:Neurocognitive Wellness Symposium – Explore the Brain-Body Connection
DESCRIPTION:Join us on Wednesday\, September 18 from 9:30 AM–3:30 PM at Asbury Methodist Village in Gaithersburg\, MD\, for a full-day symposium focused on cognitive wellness\, brain-body strategies\, and ethical decision-making in aging services. Hear from experts including Dr. Michael Gillette and engage in meaningful discussions around capacity and autonomy. \nClick here to register by September 11!
URL:https://www.leadingagedc.org/event/neurocognitive-wellness-symposium-explore-the-brain-body-connection/
END:VEVENT
BEGIN:VEVENT
DTSTART;TZID=America/Halifax:20250922T090000
DTEND;TZID=America/Halifax:20250922T130000
DTSTAMP:20260425T175513
CREATED:20250821T181541Z
LAST-MODIFIED:20250821T181718Z
UID:6608-1758531600-1758546000@www.leadingagedc.org
SUMMARY:Falls Prevention Awareness Week – Trinity Washington University
DESCRIPTION:Falls Prevention Awareness Week Flyer Join us on September 22\, 2025 from 9:00am to 1:00pm at Trinity Washington University (125 Michigan Ave NE – Trinity Center for Women & Girls in Sports) for Falls Prevention Awareness Week! \nEnjoy FREE screenings for balance\, strength\, vision\, medications\, and blood pressure\, plus tips on home safety\, fall recovery\, and preventative exercises. Participants will also receive giveaway bags\, raffle entries\, snacks\, and a “File of Life” from AARP DC. \n👉 Register with the flyer QR code or click here.
URL:https://www.leadingagedc.org/event/falls-prevention-awareness-week-trinity-washington-university/
END:VEVENT
BEGIN:VEVENT
DTSTART;TZID=America/Halifax:20250923T100000
DTEND;TZID=America/Halifax:20250923T150000
DTSTAMP:20260425T175513
CREATED:20250821T184302Z
LAST-MODIFIED:20250821T184308Z
UID:6618-1758621600-1758639600@www.leadingagedc.org
SUMMARY:Level Up: Strategies to Own Your Career Growth
DESCRIPTION:Join us on Tuesday\, September 23\, 2025\, from 10:00 AM – 3:00 PM at Goodwin House Alexandria (4800 Fillmore Avenue\, Alexandria\, VA 22311) for an interactive workshop designed to help you take charge of your career journey. \nWhether you’re aiming for your next promotion\, refining your voice in the workplace\, or building your online presence\, this session offers practical strategies\, communication tools\, and networking opportunities to help you succeed. Early- and mid-career professionals across aging services are encouraged to attend. \nApplying for 4 NAB CEs | Cost: $15 \n👉 Register here: Level Up Workshop
URL:https://www.leadingagedc.org/event/level-up-strategies-to-own-your-career-growth/
END:VEVENT
BEGIN:VEVENT
DTSTART;TZID=America/Halifax:20250923T110000
DTEND;TZID=America/Halifax:20250923T150000
DTSTAMP:20260425T175513
CREATED:20250821T182055Z
LAST-MODIFIED:20250821T182100Z
UID:6612-1758625200-1758639600@www.leadingagedc.org
SUMMARY:Falls Prevention Awareness Week – George Washington University
DESCRIPTION:Join us on September 23\, 2025 from 11:00am to 3:00pm at George Washington University (800 21st St NW – GWU Student Center Ballroom) for Falls Prevention Awareness Week! \nEnjoy FREE screenings for balance\, strength\, vision\, medications\, and blood pressure\, plus tips on home safety\, fall recovery\, and preventative exercises. Participants will also receive giveaway bags\, raffle entries\, snacks\, and a “File of Life” from AARP DC. \n👉 Register with the flyer QR code or click here.
URL:https://www.leadingagedc.org/event/falls-prevention-awareness-week-george-washington-university/
END:VEVENT
BEGIN:VEVENT
DTSTART;TZID=America/Halifax:20250924T100000
DTEND;TZID=America/Halifax:20250924T140000
DTSTAMP:20260425T175513
CREATED:20250821T182218Z
LAST-MODIFIED:20250821T183223Z
UID:6614-1758708000-1758722400@www.leadingagedc.org
SUMMARY:Falls Prevention Awareness Week – University of the District of Columbia
DESCRIPTION:Join us on September 24\, 2025 from 10:00am to 2:00pm at the University of the District of Columbia (4200 Connecticut Ave NW – UDC Student Center) for Falls Prevention Awareness Week! \nEnjoy FREE screenings for balance\, strength\, vision\, medications\, and blood pressure\, plus tips on home safety\, fall recovery\, and preventative exercises. Participants will also receive giveaway bags\, raffle entries\, snacks\, and a “File of Life” from AARP DC. \n👉 Register with the flyer QR code or click here.
URL:https://www.leadingagedc.org/event/falls-prevention-awareness-week-university-of-the-district-of-columbia/
END:VEVENT
BEGIN:VEVENT
DTSTART;TZID=America/Halifax:20250925T100000
DTEND;TZID=America/Halifax:20250925T140000
DTSTAMP:20260425T175513
CREATED:20250821T183342Z
LAST-MODIFIED:20250821T183348Z
UID:6616-1758794400-1758808800@www.leadingagedc.org
SUMMARY:Falls Prevention Awareness Week – Howard University
DESCRIPTION:Join us on September 25\, 2025 from 10:00am to 2:00pm at Howard University (501 W Street NW – Louis Stokes Library) for Falls Prevention Awareness Week! \nEnjoy FREE screenings for balance\, strength\, vision\, medications\, and blood pressure\, plus tips on home safety\, fall recovery\, and preventative exercises. Participants will also receive giveaway bags\, raffle entries\, snacks\, and a “File of Life” from AARP DC. \n👉 Register with the flyer QR code or click here.
URL:https://www.leadingagedc.org/event/falls-prevention-awareness-week-howard-university/
END:VEVENT
BEGIN:VEVENT
DTSTART;TZID=America/Halifax:20250930T140000
DTEND;TZID=America/Halifax:20250930T150000
DTSTAMP:20260425T175513
CREATED:20250814T154422Z
LAST-MODIFIED:20250814T154431Z
UID:6600-1759240800-1759244400@www.leadingagedc.org
SUMMARY:Staying Hydrated & Healthy in Senior Care – Practical Strategies to Prevent Dehydration
DESCRIPTION:Join us on Tuesday\, September 30 from 2:00–3:00 PM EST for this important webinar presented by JKJ University and ECRI. Many seniors in community settings face dangerous levels of under-hydration\, often without realizing it. This session will explore the serious health risks of dehydration\, including confusion\, heat-related illness\, UTIs\, and increased fall risk\, and will provide practical solutions for overcoming common barriers—especially in cognitively impaired residents. \nLearning Highlights: \n\n\nThe critical health benefits of promoting hydration in senior communities \n\n\nRecognizing the severe risks of dehydration in older adults \n\n\nEffective\, proven strategies to ensure proper hydration for residents \n\n\nCEUs Available: NAB/NCERS credit for licensed nursing home administrators and one contact hour for licensed nurses (see registration page for details and requirements). \n📌 Click here to register by September 30: Registration Link
URL:https://www.leadingagedc.org/event/staying-hydrated-healthy-in-senior-care-practical-strategies-to-prevent-dehydration/
END:VEVENT
END:VCALENDAR