BEGIN:VCALENDAR
VERSION:2.0
PRODID:-//LeadingAge DC - ECPv6.15.20//NONSGML v1.0//EN
CALSCALE:GREGORIAN
METHOD:PUBLISH
X-WR-CALNAME:LeadingAge DC
X-ORIGINAL-URL:https://www.leadingagedc.org
X-WR-CALDESC:Events for LeadingAge DC
REFRESH-INTERVAL;VALUE=DURATION:PT1H
X-Robots-Tag:noindex
X-PUBLISHED-TTL:PT1H
BEGIN:VTIMEZONE
TZID:America/Halifax
BEGIN:DAYLIGHT
TZOFFSETFROM:-0400
TZOFFSETTO:-0300
TZNAME:ADT
DTSTART:20240310T060000
END:DAYLIGHT
BEGIN:STANDARD
TZOFFSETFROM:-0300
TZOFFSETTO:-0400
TZNAME:AST
DTSTART:20241103T050000
END:STANDARD
BEGIN:DAYLIGHT
TZOFFSETFROM:-0400
TZOFFSETTO:-0300
TZNAME:ADT
DTSTART:20250309T060000
END:DAYLIGHT
BEGIN:STANDARD
TZOFFSETFROM:-0300
TZOFFSETTO:-0400
TZNAME:AST
DTSTART:20251102T050000
END:STANDARD
BEGIN:DAYLIGHT
TZOFFSETFROM:-0400
TZOFFSETTO:-0300
TZNAME:ADT
DTSTART:20260308T060000
END:DAYLIGHT
BEGIN:STANDARD
TZOFFSETFROM:-0300
TZOFFSETTO:-0400
TZNAME:AST
DTSTART:20261101T050000
END:STANDARD
END:VTIMEZONE
BEGIN:VEVENT
DTSTART;TZID=America/Halifax:20251009T130000
DTEND;TZID=America/Halifax:20251009T150000
DTSTAMP:20260425T161745
CREATED:20251007T175328Z
LAST-MODIFIED:20251007T175333Z
UID:6655-1760014800-1760022000@www.leadingagedc.org
SUMMARY:2025 Age-Friendly Ecosystem Summit
DESCRIPTION:Please join us this October for the 2025 Age-Friendly Ecosystem Summit\, hosted virtually by The George Washington University’s Center for Aging\, Health and Humanities in partnership with regional Age-Friendly communities. \nThis free four-part series will take place on Thursdays in October\, October 9\, 16\, 23\, and 30 from 1 to 3 PM ET\, exploring timely topics that shape the future of aging. \n\n\nOctober 9 – The State of Aging Policy: What’s Changed and What’s Next? \n\n\nOctober 16 – Reimagining Housing: Designing for Longevity \n\n\nOctober 23 – Aging with Confidence: Strategies for Financial and Social Well-being \n\n\nOctober 30 – Building Your AI Awareness: Pearls and Perils \n\n\nTogether\, we’ll explore policy\, housing\, financial resilience\, and technology to strengthen our collective commitment to an inclusive\, age-friendly ecosystem. \n👉 Register to join one or all sessions!
URL:https://www.leadingagedc.org/event/2025-age-friendly-ecosystem-summit/
END:VEVENT
BEGIN:VEVENT
DTSTART;TZID=America/Halifax:20251016T130000
DTEND;TZID=America/Halifax:20251016T150000
DTSTAMP:20260425T161745
CREATED:20251007T175521Z
LAST-MODIFIED:20251007T175534Z
UID:6658-1760619600-1760626800@www.leadingagedc.org
SUMMARY:2025 Age-Friendly Ecosystem Summit
DESCRIPTION:Please join us this October for the 2025 Age-Friendly Ecosystem Summit\, hosted virtually by The George Washington University’s Center for Aging\, Health and Humanities in partnership with regional Age-Friendly communities. \nThis free four-part series will take place on Thursdays in October\, October 9\, 16\, 23\, and 30 from 1 to 3 PM ET\, exploring timely topics that shape the future of aging. \n\n\nOctober 9 – The State of Aging Policy: What’s Changed and What’s Next? \n\n\nOctober 16 – Reimagining Housing: Designing for Longevity \n\n\nOctober 23 – Aging with Confidence: Strategies for Financial and Social Well-being \n\n\nOctober 30 – Building Your AI Awareness: Pearls and Perils \n\n\nTogether\, we’ll explore policy\, housing\, financial resilience\, and technology to strengthen our collective commitment to an inclusive\, age-friendly ecosystem. \n👉 Register to join one or all sessions!
URL:https://www.leadingagedc.org/event/2025-age-friendly-ecosystem-summit-2/
END:VEVENT
BEGIN:VEVENT
DTSTART;TZID=America/Halifax:20251023T130000
DTEND;TZID=America/Halifax:20251023T150000
DTSTAMP:20260425T161745
CREATED:20251007T175644Z
LAST-MODIFIED:20251007T175648Z
UID:6661-1761224400-1761231600@www.leadingagedc.org
SUMMARY:2025 Age-Friendly Ecosystem Summit
DESCRIPTION:Please join us this October for the 2025 Age-Friendly Ecosystem Summit\, hosted virtually by The George Washington University’s Center for Aging\, Health and Humanities in partnership with regional Age-Friendly communities. \nThis free four-part series will take place on Thursdays in October\, October 9\, 16\, 23\, and 30 from 1 to 3 PM ET\, exploring timely topics that shape the future of aging. \n\n\nOctober 9 – The State of Aging Policy: What’s Changed and What’s Next? \n\n\nOctober 16 – Reimagining Housing: Designing for Longevity \n\n\nOctober 23 – Aging with Confidence: Strategies for Financial and Social Well-being \n\n\nOctober 30 – Building Your AI Awareness: Pearls and Perils \n\n\nTogether\, we’ll explore policy\, housing\, financial resilience\, and technology to strengthen our collective commitment to an inclusive\, age-friendly ecosystem. \n👉 Register to join one or all sessions!
URL:https://www.leadingagedc.org/event/2025-age-friendly-ecosystem-summit-3/
END:VEVENT
BEGIN:VEVENT
DTSTART;TZID=America/Halifax:20251029T120000
DTEND;TZID=America/Halifax:20251029T120000
DTSTAMP:20260425T161745
CREATED:20251023T150236Z
LAST-MODIFIED:20251023T150511Z
UID:6691-1761739200-1761739200@www.leadingagedc.org
SUMMARY:LUNCH & LEARN: Updates from the DC Board of Nursing – October 29
DESCRIPTION:Join us for a special Lunch & Learn session focused on critical updates from the DC Board of Nursing. This virtual session will provide guidance on the CNA/HHA licensure renewal process\, the new fast-track CNA certification program\, and other timely resources related to the long-term care workforce. \nCamesha “Cam” Thompson\, RN\, ACRN\, CPH\, Executive Director of the DC Board of Nursing\, will share key updates and insights\, along with opportunities for providers to engage with the Board’s ongoing work through public meetings\, newsletters\, and publications. \nThis session is ideal for administrators\, HR professionals\, and leaders across mission-driven aging services organizations who want to stay informed about DC’s nursing regulations and workforce initiatives. \n🗓 Date: Wednesday\, October 29\n⏰ Time: 12:00 PM (EST)\n📍 Location: Zoom Webinar \nRegister Now\n \nAfter registering\, you’ll receive a confirmation email with your Zoom link. Don’t miss this opportunity to connect with the DC Board of Nursing and stay current on workforce updates shaping the future of care in the District.
URL:https://www.leadingagedc.org/event/6691/
END:VEVENT
BEGIN:VEVENT
DTSTART;TZID=America/Halifax:20251030T120000
DTEND;TZID=America/Halifax:20251030T130000
DTSTAMP:20260425T161745
CREATED:20251023T150929Z
LAST-MODIFIED:20251023T150929Z
UID:6696-1761825600-1761829200@www.leadingagedc.org
SUMMARY:LUNCH & LEARN with Legal Counsel for the Elderly (LCE) - October 30
DESCRIPTION:All members are invited to join us for our next virtual Lunch & Learn featuring experts from Legal Counsel for the Elderly (LCE). This complimentary session will introduce LCE’s Senior Kits—essential tools designed to help older adults and their advocates navigate complex legal and benefits systems. \nThis is a must-attend event for anyone involved in the care\, support\, or resource connection for older adults in the District. \n🗓 Date: Wednesday\, October 30\n⏰ Time: 12:00 – 12:45 PM (EST)\n📍 Location: Zoom Webinar \nRegister Now\n \nAfter registering\, you’ll receive a confirmation email with your Zoom link. Don’t miss this opportunity to strengthen your ability to serve DC’s older adults with confidence and compassion.
URL:https://www.leadingagedc.org/event/lunch-learn-with-legal-counsel-for-the-elderly-lce-october-30/
END:VEVENT
BEGIN:VEVENT
DTSTART;TZID=America/Halifax:20251030T130000
DTEND;TZID=America/Halifax:20251030T150000
DTSTAMP:20260425T161745
CREATED:20251007T175821Z
LAST-MODIFIED:20251007T175827Z
UID:6663-1761829200-1761836400@www.leadingagedc.org
SUMMARY:2025 Age-Friendly Ecosystem Summit
DESCRIPTION:Please join us this October for the 2025 Age-Friendly Ecosystem Summit\, hosted virtually by The George Washington University’s Center for Aging\, Health and Humanities in partnership with regional Age-Friendly communities. \nThis free four-part series will take place on Thursdays in October\, October 9\, 16\, 23\, and 30 from 1 to 3 PM ET\, exploring timely topics that shape the future of aging. \n\n\nOctober 9 – The State of Aging Policy: What’s Changed and What’s Next? \n\n\nOctober 16 – Reimagining Housing: Designing for Longevity \n\n\nOctober 23 – Aging with Confidence: Strategies for Financial and Social Well-being \n\n\nOctober 30 – Building Your AI Awareness: Pearls and Perils \n\n\nTogether\, we’ll explore policy\, housing\, financial resilience\, and technology to strengthen our collective commitment to an inclusive\, age-friendly ecosystem. \n👉 Register to join one or all sessions!
URL:https://www.leadingagedc.org/event/2025-age-friendly-ecosystem-summit-4/
END:VEVENT
END:VCALENDAR