BEGIN:VCALENDAR
VERSION:2.0
PRODID:-//LeadingAge DC - ECPv6.15.20//NONSGML v1.0//EN
CALSCALE:GREGORIAN
METHOD:PUBLISH
X-ORIGINAL-URL:https://www.leadingagedc.org
X-WR-CALDESC:Events for LeadingAge DC
REFRESH-INTERVAL;VALUE=DURATION:PT1H
X-Robots-Tag:noindex
X-PUBLISHED-TTL:PT1H
BEGIN:VTIMEZONE
TZID:America/Halifax
BEGIN:DAYLIGHT
TZOFFSETFROM:-0400
TZOFFSETTO:-0300
TZNAME:ADT
DTSTART:20250309T060000
END:DAYLIGHT
BEGIN:STANDARD
TZOFFSETFROM:-0300
TZOFFSETTO:-0400
TZNAME:AST
DTSTART:20251102T050000
END:STANDARD
BEGIN:DAYLIGHT
TZOFFSETFROM:-0400
TZOFFSETTO:-0300
TZNAME:ADT
DTSTART:20260308T060000
END:DAYLIGHT
BEGIN:STANDARD
TZOFFSETFROM:-0300
TZOFFSETTO:-0400
TZNAME:AST
DTSTART:20261101T050000
END:STANDARD
BEGIN:DAYLIGHT
TZOFFSETFROM:-0400
TZOFFSETTO:-0300
TZNAME:ADT
DTSTART:20270314T060000
END:DAYLIGHT
BEGIN:STANDARD
TZOFFSETFROM:-0300
TZOFFSETTO:-0400
TZNAME:AST
DTSTART:20271107T050000
END:STANDARD
END:VTIMEZONE
BEGIN:VEVENT
DTSTART;TZID=America/Halifax:20260206T120000
DTEND;TZID=America/Halifax:20260325T150000
DTSTAMP:20260425T091537
CREATED:20260210T030056Z
LAST-MODIFIED:20260210T030105Z
UID:6973-1770379200-1774450800@www.leadingagedc.org
SUMMARY:Supervisory Skills Boot Camp
DESCRIPTION:Please join us for our upcoming Supervisory Skills Boot Camp\, a virtual leadership training designed to equip supervisors and emerging leaders with practical tools to lead effectively. \nSessions (All 12:00–3:00 PM EST): \n\nMarch 6 | Module 1: Interviewing and Selection\nMarch 6 | Module 2: Managing and Improving Employee Performance\nMarch 11 | Module 3: Coaching and Progressive Discipline\nMarch 20 | Module 4: Finance & Budget Basics\nMarch 21 | Module 5: Employment Law Basics\nMarch 25 | Module 6: Supervising Your Schedule — Strategies for Time Management\n\nOpen to supervisors and managers at all levels — whether new to their role or looking to strengthen existing skills — as well as provider members\, non-members\, sponsors\, and business partners. \nCost for all six modules across four virtual sessions is $349 for Members and $549 for Non-Members. \nThe program is facilitated by Suzy Dyer-Gear\, HR Consultant\, and Lyndley Andrews\, Leadership & Engagement Strategist\, Maryland Healthcare Education Institute (MHEI). \nRegistration closes February 27\, 2026. \nRegister Now
URL:https://www.leadingagedc.org/event/supervisory-skills-boot-camp/
END:VEVENT
BEGIN:VEVENT
DTSTART;TZID=America/Halifax:20260306T130000
DTEND;TZID=America/Halifax:20260306T143000
DTSTAMP:20260425T091537
CREATED:20260205T163320Z
LAST-MODIFIED:20260205T163328Z
UID:6899-1772802000-1772807400@www.leadingagedc.org
SUMMARY:GWUH/Safe at Home
DESCRIPTION:Join us on Friday\, March 6\, 2026\, from 1:00–2:30 PM for an informative workshop on fall recovery and prevention. Medical professionals from Safe at Home and George Washington University Hospital will share guidance on how to safely get up after a fall\, reduce your risk of injury\, create a fall recovery plan\, and understand what to expect if hospital care is needed following a fall. \nRegister Here \n \n 
URL:https://www.leadingagedc.org/event/gwuh-safe-at-home/
END:VEVENT
BEGIN:VEVENT
DTSTART;TZID=America/Halifax:20260310T000000
DTEND;TZID=America/Halifax:20260324T000000
DTSTAMP:20260425T091537
CREATED:20260210T031142Z
LAST-MODIFIED:20260210T031205Z
UID:6977-1773100800-1774310400@www.leadingagedc.org
SUMMARY:2026 Strategic HR Leadership Series
DESCRIPTION:3 Virtual Sessions • Tuesdays\, March 10\, 17\, and 24 • 11:00 AM – 12:00 PM EDT$135 Members | $270 Non-Members \nYou’re doing everything you can to support your teams — yet workforce challenges like turnover\, leadership gaps\, and performance inconsistency continue to grow. If you’ve ever felt stretched balancing today’s operational demands with tomorrow’s workforce strategy\, this three-part virtual series is designed with you in mind. \nBuilt around CoreStrategy HR Solutions’ Transform. Align. Achieve. approach\, this learning experience provides practical frameworks and real-world strategies to help HR leaders elevate their impact and strengthen organizational performance. \nSession Highlights:March 10 — From Compliance to Strategic Partner: Transforming HR’s ValueMarch 17 — Leading Multi-Generational Teams: Aligning Performance and RewardsMarch 24 — Building Sustainable Leadership and Talent Capacity \nGain tools to shift HR from reactive compliance to proactive strategy\, align performance and recognition across generations\, and build long-term leadership and talent pipelines. \nRegister →
URL:https://www.leadingagedc.org/event/2026-strategic-hr-leadership-series/
END:VEVENT
BEGIN:VEVENT
DTSTART;TZID=America/Halifax:20260319T000000
DTEND;TZID=America/Halifax:20260319T000000
DTSTAMP:20260425T091537
CREATED:20260210T030309Z
LAST-MODIFIED:20260210T030314Z
UID:6975-1773878400-1773878400@www.leadingagedc.org
SUMMARY:Save the Date | Advocacy Day
DESCRIPTION:Mark your calendar and plan to join us for Advocacy Day — an opportunity to come together\, engage with policymakers\, and elevate the voices and priorities of the communities we serve. \nMarch 19\, 2026\nThe Wilson Building\n \nMore details\, including schedule and participation information\, will be shared soon. We hope you’ll plan to be part of this important day!
URL:https://www.leadingagedc.org/event/save-the-date-advocacy-day/
END:VEVENT
END:VCALENDAR